BEGIN:VCALENDAR
VERSION:2.0
PRODID:govAccess Demo Calendar Creator
METHOD:PUBLISH
BEGIN:VEVENT
DTSTAMP:20210407T145653
DTSTART:20210324T000000
DTEND:20210325T235900
SUMMARY:Farmers Market
DESCRIPTION:
X-ALT-DESC;FMTTYPE=text/html:
LOCATION:Delray Beach Community Center\, 
CLASS:PUBLIC
END:VEVENT
END:VCALENDAR
