BEGIN:VCALENDAR
VERSION:2.0
PRODID:govAccess Demo Calendar Creator
METHOD:PUBLISH
BEGIN:VEVENT
DTSTAMP:20210319T093222
DTSTART:20210326T000000
DTEND:20210328T235900
SUMMARY:Wildflower Festival
DESCRIPTION:Come by to see the new blooms&nbsp;
X-ALT-DESC;FMTTYPE=text/html:Come by to see the new blooms&nbsp;
LOCATION:Albertson Parkway\, Purple Hills & PG&E Easement San Jose\, California 95123
CLASS:PUBLIC
END:VEVENT
END:VCALENDAR
