BEGIN:VCALENDAR
VERSION:2.0
PRODID:govAccess Demo Calendar Creator
METHOD:PUBLISH
BEGIN:VEVENT
DTSTAMP:20210407T145659
DTSTART:20210323T180000
DTEND:20210323T200000
SUMMARY:Public Works - Planning Meeting
DESCRIPTION:Join us for our bi-monthly planning meeting.&nbsp; Agenda will be shared here once available.
X-ALT-DESC;FMTTYPE=text/html:Join us for our bi-monthly planning meeting.&nbsp; Agenda will be shared here once available.
LOCATION:Vista Park Community Center\, 475 Hyde Park Dr. San Jose\, California 95136
CLASS:PUBLIC
END:VEVENT
END:VCALENDAR
