BEGIN:VCALENDAR
VERSION:2.0
PRODID:govAccess Demo Calendar Creator
METHOD:PUBLISH
BEGIN:VEVENT
DTSTAMP:20200706T211227
DTSTART:20200705T000000
DTEND:20200707T235900
SUMMARY:City of West Linn
DESCRIPTION:
X-ALT-DESC;FMTTYPE=text/html:
LOCATION:
CLASS:PUBLIC
END:VEVENT
END:VCALENDAR
