BEGIN:VCALENDAR
VERSION:2.0
PRODID:govAccess Demo Calendar Creator
METHOD:PUBLISH
BEGIN:VEVENT
DTSTAMP:20200614T193234
DTSTART:20200609T000000
DTEND:20200610T235900
SUMMARY:Lincoln County Test
DESCRIPTION:<p></p><p>Lincoln County opens up restaurants</p>
X-ALT-DESC;FMTTYPE=text/html:<p></p><p>Lincoln County opens up restaurants</p>
LOCATION:
CLASS:PUBLIC
END:VEVENT
END:VCALENDAR
