BEGIN:VCALENDAR
VERSION:2.0
PRODID:govAccess Demo Calendar Creator
METHOD:PUBLISH
BEGIN:VEVENT
DTSTAMP:20200614T193444
DTSTART:20200310T000000
DTEND:20200331T055900
SUMMARY:Test Event 0310
DESCRIPTION:<p>Fireworks every night through the end of March!</p><p>We have a surplus of fireworks to go through.</p><p></p>
X-ALT-DESC;FMTTYPE=text/html:<p>Fireworks every night through the end of March!</p><p>We have a surplus of fireworks to go through.</p><p></p>
LOCATION:Montgomery Hill Park\, Montgomery Hill Trail\, San Jose\, CA 95135\, Yerba Buena Road & Mutillo Avenue San Jose\, California 95135
CLASS:PUBLIC
END:VEVENT
END:VCALENDAR
