BEGIN:VCALENDAR
VERSION:2.0
PRODID:govAccess Demo Calendar Creator
METHOD:PUBLISH
BEGIN:VEVENT
DTSTAMP:20191008T124108
DTSTART:20191010T000000
DTEND:20191010T235900
SUMMARY:Board Meeting
DESCRIPTION:Here is the editor&nbsp;
X-ALT-DESC;FMTTYPE=text/html:Here is the editor&nbsp;
LOCATION:Alder Leaf (Lake Cunningham)\, 2305 S White Rd San Jose\, California 95148
CLASS:PUBLIC
END:VEVENT
END:VCALENDAR
