BEGIN:VCALENDAR
VERSION:2.0
PRODID:govAccess Demo Calendar Creator
METHOD:PUBLISH
BEGIN:VEVENT
DTSTAMP:20190929T123754
DTSTART:20190930T130000
DTEND:20190930T150000
SUMMARY:CSI-972 Future Event post to Vision-Airport Facebook page
DESCRIPTION:
X-ALT-DESC;FMTTYPE=text/html:
LOCATION:Barberry Lane Walkway\, Barberry Lane & King Road San Jose\, California 95113
CLASS:PUBLIC
END:VEVENT
END:VCALENDAR
