BEGIN:VCALENDAR
VERSION:2.0
PRODID:govAccess Demo Calendar Creator
METHOD:PUBLISH
BEGIN:VEVENT
DTSTAMP:20200614T193744
DTSTART:20190720T000000
DTEND:20190720T235900
SUMMARY:Community Cook Out
DESCRIPTION:Content Goes Here,
X-ALT-DESC;FMTTYPE=text/html:Content Goes Here,
LOCATION:
CLASS:PUBLIC
END:VEVENT
END:VCALENDAR
