BEGIN:VCALENDAR
VERSION:2.0
PRODID:govAccess Demo Calendar Creator
METHOD:PUBLISH
BEGIN:VEVENT
DTSTAMP:20190624T141219
DTSTART:20190628T000000
DTEND:20190628T235900
SUMMARY:Summer in Coppell
DESCRIPTION:<p>Join us for fun!</p><p></p>
X-ALT-DESC;FMTTYPE=text/html:<p>Join us for fun!</p><p></p>
LOCATION:Alma Community Center\, 136 W. Alma Ave. San Jose\, California 95110
CLASS:PUBLIC
END:VEVENT
END:VCALENDAR
