BEGIN:VCALENDAR
VERSION:2.0
PRODID:govAccess Demo Calendar Creator
METHOD:PUBLISH
BEGIN:VEVENT
DTSTAMP:20210416T122801
DTSTART:20210418T000000
DTEND:20210418T235900
SUMMARY:Meet and greet with local law enforcement
DESCRIPTION:
X-ALT-DESC;FMTTYPE=text/html:
LOCATION:Alder Leaf (Lake Cunningham)\, 2305 S White Rd San Jose\, California 95148
CLASS:PUBLIC
END:VEVENT
END:VCALENDAR
